BEGIN:VCALENDAR
VERSION:2.0
PRODID:-//13.32.181.11//NONSGML kigkonsult.se iCalcreator 2.26.9//
CALSCALE:GREGORIAN
METHOD:PUBLISH
X-WR-CALNAME:NM SPO
X-WR-CALDESC:A trusted partner expertly leading the way in human resources 
 practices and services that enhance the employee experience.
X-FROM-URL:https://www.spo.state.nm.us
X-WR-TIMEZONE:America/Denver
BEGIN:VTIMEZONE
TZID:America/Denver
X-LIC-LOCATION:America/Denver
BEGIN:STANDARD
DTSTART:20201101T020000
TZOFFSETFROM:-0600
TZOFFSETTO:-0700
RDATE:20211107T020000,20221106T020000
TZNAME:MST
END:STANDARD
BEGIN:DAYLIGHT
DTSTART:20210314T020000
TZOFFSETFROM:-0700
TZOFFSETTO:-0600
RDATE:20220313T020000
TZNAME:MDT
END:DAYLIGHT
END:VTIMEZONE
BEGIN:VEVENT
UID:ai1ec-1326@www.spo.state.nm.us
DTSTAMP:20210522T130743Z
CATEGORIES:
CONTACT:
DESCRIPTION:CLASS SIZE LIMITED TO 25 PARTICIPANTS TO ALLOW FOR INTERACTIVIT
 Y. This class will be offered online via Zoom. Information will be shared 
 soon with enrolled employees. Class Code: SoNM-1632-44 Registration requir
 ed. Strategies for Positive Management (SPM) addresses common issues in su
 pervision from an approach of using positive strategies to guide your empl
 oyees toward growth and success. The course is highly interactive and disc
 ussion-based\, and is intended to benefit both new and experienced supervi
 sors. It includes sections on motivation and engagement\, positive coachin
 g and feedback\, and handling common challenges such as time management an
 d effectively managing supervisor/supervisee relationships. If you are an 
 individual with a disability who is in need of an accommodation to partici
 pate in a State Personnel training\, please email Personnel.Training@state
 .nm.us.
DTSTART;TZID=America/Denver:20210223T090000
SEQUENCE:0
SUMMARY:ShareOnline Delivery: AM class – Strategies for Positive Management
URL:https://www.spo.state.nm.us/event/shareonline-delivery-am-class-strateg
 ies-for-positive-management/
X-COST-TYPE:free
X-ALT-DESC;FMTTYPE=text/html:<!DOCTYPE HTML PUBLIC '-//W3C//DTD HTML 3.2//E
 N'>\\n<HTML>\\n<HEAD>\\n<TITLE></TITLE>\\n</HEAD>\\n<BODY><div class='et-l
  et-l--post'>\n			<div class='et_builder_inner_content et_pb_gutters2'>\n		<p>C
 LASS SIZE LIMITED TO 25 PARTICIPANTS TO ALLOW FOR INTERACTIVITY. This clas
 s will be offered online via Zoom. Information will be shared soon with en
 rolled employees. Class Code: SoNM-1632-44 Registration required. Strategi
 es for Positive Management (SPM) addresses common issues in supervision fr
 om an approach of using positive strategies to guide your employees toward
  growth and success. The course is highly interactive and discussion-based
 \, and is intended to benefit both new and experienced supervisors. It inc
 ludes sections on motivation and engagement\, positive coaching and feedba
 ck\, and handling common challenges such as time management and effectivel
 y managing supervisor/supervisee relationships. If you are an individual w
 ith a disability who is in need of an accommodation to participate in a St
 ate Personnel training\, please email Personnel.Training@state.nm.us.</p>
 \n\n		</div><!-- .et_builder_inner_content -->\n	</div><!-- .et-l -->\n	</BODY
 ></HTML>
X-INSTANT-EVENT:1
END:VEVENT
END:VCALENDAR
