BEGIN:VCALENDAR
VERSION:2.0
PRODID:-//13.32.181.79//NONSGML kigkonsult.se iCalcreator 2.26.9//
CALSCALE:GREGORIAN
METHOD:PUBLISH
X-WR-CALNAME:NM SPO
X-WR-CALDESC:A trusted partner expertly leading the way in human resources 
 practices and services that enhance the employee experience.
X-FROM-URL:https://www.spo.state.nm.us
X-WR-TIMEZONE:America/Denver
BEGIN:VTIMEZONE
TZID:America/Denver
X-LIC-LOCATION:America/Denver
BEGIN:STANDARD
DTSTART:20201101T020000
TZOFFSETFROM:-0600
TZOFFSETTO:-0700
RDATE:20211107T020000,20221106T020000
TZNAME:MST
END:STANDARD
BEGIN:DAYLIGHT
DTSTART:20210314T020000
TZOFFSETFROM:-0700
TZOFFSETTO:-0600
RDATE:20220313T020000
TZNAME:MDT
END:DAYLIGHT
END:VTIMEZONE
BEGIN:VEVENT
UID:ai1ec-1338@www.spo.state.nm.us
DTSTAMP:20210522T130940Z
CATEGORIES:
CONTACT:
DESCRIPTION:<div class='et-l et-l--post'>\n			<div class='et_builder_inner_con
 tent et_pb_gutters2'>\n		<p>Managing Employee Performance (MEP) helps manage
 rs and supervisors learn to implement the Employee Evaluation Cycle\, writ
 e goals that promote employee growth and development\, and rate employee p
 erformance. The Employee Evaluation process is more than a mandatory revie
 w of performance\; it’s an opportunity for you to ensure the success of ev
 ery member of your team and the mission you serve. The MEP course is inten
 ded to support you in that effort. New Mexico State Personnel Board rule 1
 .7.9.9 requires the Managing Employee Performance course within 90 days of
  appointment as a supervisor or manager\, but attendance is encouraged for
  any manager or supervisor who might benefit from the course. Registration
  required. If you are an individual with a disability who is in need of an
  accommodation to participate in a State Personnel training\, please email
  Personnel.Training@state.nm.us.</p>\n\n		</div><!-- .et_builder_inner_conte
 nt -->\n	</div><!-- .et-l -->
DTSTART;TZID=America/Denver:20210225T090000
SEQUENCE:0
SUMMARY:Online Delivery: AM Class – Managing Employee Performance
URL:https://www.spo.state.nm.us/event/online-delivery-am-class-managing-emp
 loyee-performance-3/
X-COST-TYPE:free
X-INSTANT-EVENT:1
END:VEVENT
END:VCALENDAR
