BEGIN:VCALENDAR
VERSION:2.0
PRODID:-//13.32.181.79//NONSGML kigkonsult.se iCalcreator 2.26.9//
CALSCALE:GREGORIAN
METHOD:PUBLISH
X-WR-CALNAME:NM SPO
X-WR-CALDESC:A trusted partner expertly leading the way in human resources 
 practices and services that enhance the employee experience.
X-FROM-URL:https://www.spo.state.nm.us
X-WR-TIMEZONE:America/Denver
BEGIN:VTIMEZONE
TZID:America/Denver
X-LIC-LOCATION:America/Denver
BEGIN:STANDARD
DTSTART:20201101T020000
TZOFFSETFROM:-0600
TZOFFSETTO:-0700
RDATE:20211107T020000,20221106T020000
TZNAME:MST
END:STANDARD
BEGIN:DAYLIGHT
DTSTART:20210314T020000
TZOFFSETFROM:-0700
TZOFFSETTO:-0600
RDATE:20220313T020000
TZNAME:MDT
END:DAYLIGHT
END:VTIMEZONE
BEGIN:VEVENT
UID:ai1ec-2872@www.spo.state.nm.us
DTSTAMP:20210522T131027Z
CATEGORIES:
CONTACT:
DESCRIPTION:<div class='et-l et-l--post'>\n			<div class='et_builder_inner_con
 tent et_pb_gutters2'>\n		<p>CLASS SIZE LIMITED TO 25 PARTICIPANTS TO ALLOW F
 OR INTERACTIVITY.</p>\n<p>This class will be offered online via Zoom.</p>
 \n<p>Information will be shared with enrolled employees.</p>\n<p>Class Cod
 e: SoNM-1676-01</p>\n<p>Managers/supervisors will learn to be a collaborat
 ive leader in the workplace. They will explore how to: facilitate teamwork
 \, motivate employees\, provide positive reinforcement\, build a culture o
 f respect\, and maintain positive relationships.  Collaborative leadership
  skills can be learned and can help leaders generate exceptional long-term
  performance. At the same time\, collaborative leadership can support empl
 oyee workplace satisfaction\, build a culture of civility in the workplace
 \, and increase employee retention.</p>\n<p>If you are an individual with 
 a disability who is in need of an accommodation to participate in a State 
 Personnel training\, please email <a href='mailto:Personnel.Training@state
 .nm.us'>Personnel.Training@state.nm.us</a>.</p>\n<p><strong>Date:</strong>
  Thursday\, February 18\, 2021 – Thursday\, February 18\, 2021<br />\n<str
 ong>Time:</strong> 9:00 AM – 11:00 PM</p>\n<p><strong>Links:</strong> Regi
 ster on ELM<br />\n<strong>Tags:</strong> CL</p>\n\n		</div><!-- .et_builder
 _inner_content -->\n	</div><!-- .et-l -->
DTSTART;TZID=America/Denver:20210218T090000
DTEND;TZID=America/Denver:20210218T100000
SEQUENCE:0
SUMMARY:Online Delivery: AM Class – Collaborative Leadership
URL:https://www.spo.state.nm.us/event/online-delivery-am-class-collaborativ
 e-leadership/
X-COST-TYPE:free
END:VEVENT
END:VCALENDAR
