BEGIN:VCALENDAR
VERSION:2.0
PRODID:-//13.32.181.12//NONSGML kigkonsult.se iCalcreator 2.26.9//
CALSCALE:GREGORIAN
METHOD:PUBLISH
X-WR-CALNAME:NM SPO
X-WR-CALDESC:A trusted partner expertly leading the way in human resources 
 practices and services that enhance the employee experience.
X-FROM-URL:https://www.spo.state.nm.us
X-WR-TIMEZONE:America/Denver
BEGIN:VTIMEZONE
TZID:America/Denver
X-LIC-LOCATION:America/Denver
BEGIN:STANDARD
DTSTART:20201101T020000
TZOFFSETFROM:-0600
TZOFFSETTO:-0700
RDATE:20211107T020000,20221106T020000
TZNAME:MST
END:STANDARD
BEGIN:DAYLIGHT
DTSTART:20210314T020000
TZOFFSETFROM:-0700
TZOFFSETTO:-0600
RDATE:20220313T020000
TZNAME:MDT
END:DAYLIGHT
END:VTIMEZONE
BEGIN:VEVENT
UID:ai1ec-2877@www.spo.state.nm.us
DTSTAMP:20210522T221150Z
CATEGORIES:
CONTACT:
DESCRIPTION:CLASS SIZE LIMITED TO 25 PARTICIPANTS TO ALLOW FOR INTERACTIVIT
 Y.\nThis class will be offered online via Zoom.\nInformation will be share
 d with enrolled employees.\nClass Code: SoNM-1082-100\nManaging Employee P
 erformance (MEP) helps managers and supervisors learn to implement the Emp
 loyee Evaluation Cycle\, write goals that promote employee growth and deve
 lopment\, and rate employee performance.  The Employee Evaluation process 
 is more than a mandatory review of performance\; it’s an opportunity for y
 ou to ensure the success of every member of your team and the mission you 
 serve. The MEP course is intended to support you in that effort. New Mexic
 o State Personnel Board rule 1.7.9.9 requires the Managing Employee Perfor
 mance course within 90 days of appointment as a supervisor or manager\, bu
 t attendance is encouraged for any manager or supervisor who might benefit
  from the course. Registration required.\nIf you are an individual with a 
 disability who is in need of an accommodation to participate in a State Pe
 rsonnel training\, please email Personnel.Training@state.nm.us.\nDate: Thu
 rsday\, March 11\, 2021 – Thursday\, March 11\, 2021\nTime: 9:00 AM – 12:0
 0 PM\nLinks: Register on ELM\nTags: MEP
DTSTART;TZID=America/Denver:20210311T090000
DTEND;TZID=America/Denver:20210311T120000
SEQUENCE:0
SUMMARY:Online Delivery: AM Class – Managing Employee Performance
URL:https://www.spo.state.nm.us/event/online-delivery-am-class-managing-emp
 loyee-performance-5/
X-COST-TYPE:free
X-ALT-DESC;FMTTYPE=text/html:<!DOCTYPE HTML PUBLIC '-//W3C//DTD HTML 3.2//E
 N'>\\n<HTML>\\n<HEAD>\\n<TITLE></TITLE>\\n</HEAD>\\n<BODY><div class='et-l
  et-l--post'>\n			<div class='et_builder_inner_content et_pb_gutters2'>\n		<p>C
 LASS SIZE LIMITED TO 25 PARTICIPANTS TO ALLOW FOR INTERACTIVITY.</p>\n<p>T
 his class will be offered online via Zoom.</p>\n<p>Information will be sha
 red with enrolled employees.</p>\n<p>Class Code: SoNM-1082-100</p>\n<p>Man
 aging Employee Performance (MEP) helps managers and supervisors learn to i
 mplement the Employee Evaluation Cycle\, write goals that promote employee
  growth and development\, and rate employee performance.  The Employee Eva
 luation process is more than a mandatory review of performance\; it’s an o
 pportunity for you to ensure the success of every member of your team and 
 the mission you serve. The MEP course is intended to support you in that e
 ffort. New Mexico State Personnel Board rule 1.7.9.9 requires the Managing
  Employee Performance course within 90 days of appointment as a supervisor
  or manager\, but attendance is encouraged for any manager or supervisor w
 ho might benefit from the course. Registration required.</p>\n<p>If you ar
 e an individual with a disability who is in need of an accommodation to pa
 rticipate in a State Personnel training\, please email <a href='mailto:Per
 sonnel.Training@state.nm.us'>Personnel.Training@state.nm.us</a>.</p>\n<p><
 strong>Date:</strong> Thursday\, March 11\, 2021 – Thursday\, March 11\, 2
 021<br />\n<strong>Time:</strong> 9:00 AM – 12:00 PM<br />\n<strong>Links:
 </strong> Register on ELM<br />\n<strong>Tags:</strong> MEP</p>\n\n		</div><
 !-- .et_builder_inner_content -->\n	</div><!-- .et-l -->\n	</BODY></HTML>
END:VEVENT
END:VCALENDAR
