BEGIN:VCALENDAR
VERSION:2.0
PRODID:-//13.32.181.11//NONSGML kigkonsult.se iCalcreator 2.26.9//
CALSCALE:GREGORIAN
METHOD:PUBLISH
X-WR-CALNAME:NM SPO
X-WR-CALDESC:A trusted partner expertly leading the way in human resources 
 practices and services that enhance the employee experience.
X-FROM-URL:https://www.spo.state.nm.us
X-WR-TIMEZONE:America/Denver
BEGIN:VTIMEZONE
TZID:America/Denver
X-LIC-LOCATION:America/Denver
BEGIN:STANDARD
DTSTART:20201101T020000
TZOFFSETFROM:-0600
TZOFFSETTO:-0700
RDATE:20211107T020000,20221106T020000
TZNAME:MST
END:STANDARD
BEGIN:DAYLIGHT
DTSTART:20210314T020000
TZOFFSETFROM:-0700
TZOFFSETTO:-0600
RDATE:20220313T020000
TZNAME:MDT
END:DAYLIGHT
END:VTIMEZONE
BEGIN:VEVENT
UID:ai1ec-2878@www.spo.state.nm.us
DTSTAMP:20210522T221239Z
CATEGORIES:
CONTACT:
DESCRIPTION:CLASS SIZE LIMITED TO 25 PARTICIPANTS TO ALLOW FOR INTERACTIVIT
 Y.\nThis class will be offered online via Zoom.\nInformation will be share
 d soon with enrolled employees.\nClass Code: SoNM-1632-45\nRegistration re
 quired. Strategies for Positive Management (SPM) addresses common issues i
 n supervision from an approach of using positive strategies to guide your 
 employees toward growth and success.  The course is highly interactive and
  discussion-based and is intended to benefit both new and experienced supe
 rvisors.  It includes sections on motivation and engagement\, positive coa
 ching and feedback\, and handling common challenges such as time managemen
 t and effectively managing supervisor/supervisee relationships.\nIf you ar
 e an individual with a disability who is in need of an accommodation to pa
 rticipate in a State Personnel training\, please email Personnel.Training@
 state.nm.us.\nDate: Tuesday\, March 16\, 2021 – Tuesday\, March 16\, 2021
 \nTime: 9:00 AM – 12:00 PM\nLinks: Register on ELM\nTags: SPM
DTSTART;TZID=America/Denver:20210316T090000
DTEND;TZID=America/Denver:20210316T120000
SEQUENCE:0
SUMMARY:Online Delivery: AM class – Strategies for Positive Management
URL:https://www.spo.state.nm.us/event/online-delivery-am-class-strategies-f
 or-positive-management-3/
X-COST-TYPE:free
X-ALT-DESC;FMTTYPE=text/html:<!DOCTYPE HTML PUBLIC '-//W3C//DTD HTML 3.2//E
 N'>\\n<HTML>\\n<HEAD>\\n<TITLE></TITLE>\\n</HEAD>\\n<BODY><div class='et-l
  et-l--post'>\n			<div class='et_builder_inner_content et_pb_gutters2'>\n		<p>C
 LASS SIZE LIMITED TO 25 PARTICIPANTS TO ALLOW FOR INTERACTIVITY.</p>\n<p>T
 his class will be offered online via Zoom.</p>\n<p>Information will be sha
 red soon with enrolled employees.</p>\n<p>Class Code: SoNM-1632-45</p>\n<p
 >Registration required. Strategies for Positive Management (SPM) addresses
  common issues in supervision from an approach of using positive strategie
 s to guide your employees toward growth and success.  The course is highly
  interactive and discussion-based and is intended to benefit both new and 
 experienced supervisors.  It includes sections on motivation and engagemen
 t\, positive coaching and feedback\, and handling common challenges such a
 s time management and effectively managing supervisor/supervisee relations
 hips.</p>\n<p>If you are an individual with a disability who is in need of
  an accommodation to participate in a State Personnel training\, please em
 ail <a href='mailto:Personnel.Training@state.nm.us'>Personnel.Training@sta
 te.nm.us</a>.</p>\n<p><strong>Date:</strong> Tuesday\, March 16\, 2021 – T
 uesday\, March 16\, 2021<br />\n<strong>Time:</strong> 9:00 AM – 12:00 PM<
 br />\n<strong>Links:</strong> Register on ELM<br />\n<strong>Tags:</stron
 g> SPM</p>\n\n		</div><!-- .et_builder_inner_content -->\n	</div><!-- .et-l -
 ->\n	</BODY></HTML>
END:VEVENT
END:VCALENDAR
