BEGIN:VCALENDAR
VERSION:2.0
PRODID:-//13.32.181.79//NONSGML kigkonsult.se iCalcreator 2.26.9//
CALSCALE:GREGORIAN
METHOD:PUBLISH
X-WR-CALNAME:NM SPO
X-WR-CALDESC:A trusted partner expertly leading the way in human resources 
 practices and services that enhance the employee experience.
X-FROM-URL:https://www.spo.state.nm.us
X-WR-TIMEZONE:America/Denver
BEGIN:VTIMEZONE
TZID:America/Denver
X-LIC-LOCATION:America/Denver
BEGIN:STANDARD
DTSTART:20201101T020000
TZOFFSETFROM:-0600
TZOFFSETTO:-0700
RDATE:20211107T020000,20221106T020000
TZNAME:MST
END:STANDARD
BEGIN:DAYLIGHT
DTSTART:20210314T020000
TZOFFSETFROM:-0700
TZOFFSETTO:-0600
RDATE:20220313T020000
TZNAME:MDT
END:DAYLIGHT
END:VTIMEZONE
BEGIN:VEVENT
UID:ai1ec-2881@www.spo.state.nm.us
DTSTAMP:20210522T221441Z
CATEGORIES:
CONTACT:
DESCRIPTION:CLASS SIZE LIMITED TO 25 PARTICIPANTS TO ALLOW FOR INTERACTIVIT
 Y.\nThis class will be offered online via Zoom.\nInformation will be share
 d with enrolled employees.\nClass Code: SoNM-1676-3\nManagers/supervisors 
 will learn to be a collaborative leader in the workplace. They will explor
 e how to: facilitate teamwork\, motivate employees\, provide positive rein
 forcement\, build a culture of respect\, and maintain positive relationshi
 ps.  Collaborative leadership skills can be learned and can help leaders g
 enerate exceptional long-term performance. At the same time\, collaborativ
 e leadership can support employee workplace satisfaction\, build a culture
  of civility in the workplace\, and increase employee retention.\nIf you a
 re an individual with a disability who is in need of an accommodation to p
 articipate in a State Personnel training\, please email Personnel.Training
 @state.nm.us.\nDate: Tuesday\, March 30\, 2021 – Tuesday\, March 30\, 2021
 \nTime: 9:00 AM – 11:00 PM\nLinks: Register on ELM\nTags: CLS
DTSTART;TZID=America/Denver:20210330T210000
DTEND;TZID=America/Denver:20210330T230000
SEQUENCE:0
SUMMARY:Online Delivery: AM Class – Collaborative Leadership
URL:https://www.spo.state.nm.us/event/online-delivery-am-class-collaborativ
 e-leadership-3/
X-COST-TYPE:free
X-ALT-DESC;FMTTYPE=text/html:<!DOCTYPE HTML PUBLIC '-//W3C//DTD HTML 3.2//E
 N'>\\n<HTML>\\n<HEAD>\\n<TITLE></TITLE>\\n</HEAD>\\n<BODY><div class='et-l
  et-l--post'>\n			<div class='et_builder_inner_content et_pb_gutters2'>\n		<p>C
 LASS SIZE LIMITED TO 25 PARTICIPANTS TO ALLOW FOR INTERACTIVITY.</p>\n<p>T
 his class will be offered online via Zoom.</p>\n<p>Information will be sha
 red with enrolled employees.</p>\n<p>Class Code: SoNM-1676-3</p>\n<p>Manag
 ers/supervisors will learn to be a collaborative leader in the workplace. 
 They will explore how to: facilitate teamwork\, motivate employees\, provi
 de positive reinforcement\, build a culture of respect\, and maintain posi
 tive relationships.  Collaborative leadership skills can be learned and ca
 n help leaders generate exceptional long-term performance. At the same tim
 e\, collaborative leadership can support employee workplace satisfaction\,
  build a culture of civility in the workplace\, and increase employee rete
 ntion.</p>\n<p>If you are an individual with a disability who is in need o
 f an accommodation to participate in a State Personnel training\, please e
 mail <a href='mailto:Personnel.Training@state.nm.us'>Personnel.Training@st
 ate.nm.us</a>.</p>\n<p><strong>Date:</strong> Tuesday\, March 30\, 2021 – 
 Tuesday\, March 30\, 2021<br />\n<strong>Time:</strong> 9:00 AM – 11:00 PM
 </p>\n<p><strong>Links: </strong>Register on ELM<br />\n<strong>Tags:</str
 ong> CLS</p>\n\n		</div><!-- .et_builder_inner_content -->\n	</div><!-- .et-l
  -->\n	</BODY></HTML>
END:VEVENT
END:VCALENDAR
