BEGIN:VCALENDAR
VERSION:2.0
PRODID:-//13.32.181.109//NONSGML kigkonsult.se iCalcreator 2.26.9//
CALSCALE:GREGORIAN
METHOD:PUBLISH
X-WR-CALNAME:NM SPO
X-WR-CALDESC:A trusted partner expertly leading the way in human resources 
 practices and services that enhance the employee experience.
X-FROM-URL:https://www.spo.state.nm.us
X-WR-TIMEZONE:America/Denver
BEGIN:VTIMEZONE
TZID:America/Denver
X-LIC-LOCATION:America/Denver
BEGIN:STANDARD
DTSTART:20201101T020000
TZOFFSETFROM:-0600
TZOFFSETTO:-0700
RDATE:20211107T020000,20221106T020000
TZNAME:MST
END:STANDARD
BEGIN:DAYLIGHT
DTSTART:20210314T020000
TZOFFSETFROM:-0700
TZOFFSETTO:-0600
RDATE:20220313T020000
TZNAME:MDT
END:DAYLIGHT
END:VTIMEZONE
BEGIN:VEVENT
UID:ai1ec-3010@www.spo.state.nm.us
DTSTAMP:20210510T064311Z
CATEGORIES:
CONTACT:
DESCRIPTION:CLASS SIZE LIMITED TO 25 PARTICIPANTS TO ALLOW FOR INTERACTIVIT
 Y.\nThis class will be offered online via Zoom.\nInformation will be share
 d with enrolled employees.\nClass Code: SoNM-1082-103\nManaging Employee P
 erformance (MEP) helps managers and supervisors learn to implement the Emp
 loyee Evaluation Cycle\, write goals that promote employee growth and deve
 lopment\, and rate employee performance.  The Employee Evaluation process 
 is more than a mandatory review of performance\; it’s an opportunity for y
 ou to ensure the success of every member of your team and the mission you 
 serve. The MEP course is intended to support you in that effort. New Mexic
 o State Personnel Board rule 1.7.9.9 requires the Managing Employee Perfor
 mance course within 90 days of appointment as a supervisor or manager\, bu
 t attendance is encouraged for any manager or supervisor who might benefit
  from the course. Registration required.\nIf you are an individual with a 
 disability who is in need of an accommodation to participate in a State Pe
 rsonnel training\, please  email Personnel.Training@state.nm.us.\nDate: Th
 ursday\, April 8\, 2021 Time: 9:00 AM – 12:00 PMLinks: Register on ELMTags
 : MEP
DTSTART;TZID=America/Denver:20210408T090000
DTEND;TZID=America/Denver:20210408T120000
SEQUENCE:0
SUMMARY:Online Delivery: AM Class – Managing Employee Performance
URL:https://www.spo.state.nm.us/event/online-delivery-am-class-managing-emp
 loyee-performance-8/
X-COST-TYPE:free
X-ALT-DESC;FMTTYPE=text/html:<!DOCTYPE HTML PUBLIC '-//W3C//DTD HTML 3.2//E
 N'>\\n<HTML>\\n<HEAD>\\n<TITLE></TITLE>\\n</HEAD>\\n<BODY><div class='et-l
  et-l--post'>\n			<div class='et_builder_inner_content et_pb_gutters2'>\n		<p s
 tyle='box-sizing: border-box\; margin: 0px\; padding: 0px 0px 1em\; border
 : 0px\; outline: 0px\; font-size: 16px\; text-size-adjust: 100%\; vertical
 -align: baseline\; background: #ffffff\; color: #242b33\; font-family: 'Op
 en Sans'\, Helvetica\, Arial\, Lucida\, sans-serif\; font-style: normal\; 
 font-variant-ligatures: normal\; font-variant-caps: normal\; font-weight: 
 500\; letter-spacing: normal\; orphans: 2\; text-align: start\; text-inden
 t: 0px\; text-transform: none\; white-space: normal\; widows: 2\; word-spa
 cing: 0px\; -webkit-text-stroke-width: 0px\; text-decoration-thickness: in
 itial\; text-decoration-style: initial\; text-decoration-color: initial\;'
 >CLASS SIZE LIMITED TO 25 PARTICIPANTS TO ALLOW FOR INTERACTIVITY.</p>\n<p
  style='box-sizing: border-box\; margin: 0px\; padding: 0px 0px 1em\; bord
 er: 0px\; outline: 0px\; font-size: 16px\; text-size-adjust: 100%\; vertic
 al-align: baseline\; background: #ffffff\; color: #242b33\; font-family: '
 Open Sans'\, Helvetica\, Arial\, Lucida\, sans-serif\; font-style: normal\
 ; font-variant-ligatures: normal\; font-variant-caps: normal\; font-weight
 : 500\; letter-spacing: normal\; orphans: 2\; text-align: start\; text-ind
 ent: 0px\; text-transform: none\; white-space: normal\; widows: 2\; word-s
 pacing: 0px\; -webkit-text-stroke-width: 0px\; text-decoration-thickness: 
 initial\; text-decoration-style: initial\; text-decoration-color: initial\
 ;'>This class will be offered online via Zoom.</p>\n<p style='box-sizing: 
 border-box\; margin: 0px\; padding: 0px 0px 1em\; border: 0px\; outline: 0
 px\; font-size: 16px\; text-size-adjust: 100%\; vertical-align: baseline\;
  background: #ffffff\; color: #242b33\; font-family: 'Open Sans'\, Helveti
 ca\, Arial\, Lucida\, sans-serif\; font-style: normal\; font-variant-ligat
 ures: normal\; font-variant-caps: normal\; font-weight: 500\; letter-spaci
 ng: normal\; orphans: 2\; text-align: start\; text-indent: 0px\; text-tran
 sform: none\; white-space: normal\; widows: 2\; word-spacing: 0px\; -webki
 t-text-stroke-width: 0px\; text-decoration-thickness: initial\; text-decor
 ation-style: initial\; text-decoration-color: initial\;'>Information will 
 be shared with enrolled employees.</p>\n<p style='box-sizing: border-box\;
  margin: 0px\; padding: 0px 0px 1em\; border: 0px\; outline: 0px\; font-si
 ze: 16px\; text-size-adjust: 100%\; vertical-align: baseline\; background:
  #ffffff\; color: #242b33\; font-family: 'Open Sans'\, Helvetica\, Arial\,
  Lucida\, sans-serif\; font-style: normal\; font-variant-ligatures: normal
 \; font-variant-caps: normal\; font-weight: 500\; letter-spacing: normal\;
  orphans: 2\; text-align: start\; text-indent: 0px\; text-transform: none\
 ; white-space: normal\; widows: 2\; word-spacing: 0px\; -webkit-text-strok
 e-width: 0px\; text-decoration-thickness: initial\; text-decoration-style:
  initial\; text-decoration-color: initial\;'>Class Code: SoNM-1082-103</p>
 \n<p style='box-sizing: border-box\; margin: 0px\; padding: 0px 0px 1em\; 
 border: 0px\; outline: 0px\; font-size: 16px\; text-size-adjust: 100%\; ve
 rtical-align: baseline\; background: #ffffff\; color: #242b33\; font-famil
 y: 'Open Sans'\, Helvetica\, Arial\, Lucida\, sans-serif\; font-style: nor
 mal\; font-variant-ligatures: normal\; font-variant-caps: normal\; font-we
 ight: 500\; letter-spacing: normal\; orphans: 2\; text-align: start\; text
 -indent: 0px\; text-transform: none\; white-space: normal\; widows: 2\; wo
 rd-spacing: 0px\; -webkit-text-stroke-width: 0px\; text-decoration-thickne
 ss: initial\; text-decoration-style: initial\; text-decoration-color: init
 ial\;'>Managing Employee Performance (MEP) helps managers and supervisors 
 learn to implement the Employee Evaluation Cycle\, write goals that promot
 e employee growth and development\, and rate employee performance.  The Em
 ployee Evaluation process is more than a mandatory review of performance\;
  it’s an opportunity for you to ensure the success of every member of your
  team and the mission you serve. The MEP course is intended to support you
  in that effort. New Mexico State Personnel Board rule 1.7.9.9 requires th
 e Managing Employee Performance course within 90 days of appointment as a 
 supervisor or manager\, but attendance is encouraged for any manager or su
 pervisor who might benefit from the course. Registration required.</p>\n<p
  style='box-sizing: border-box\; margin: 0px\; padding: 0px 0px 1em\; bord
 er: 0px\; outline: 0px\; font-size: 16px\; text-size-adjust: 100%\; vertic
 al-align: baseline\; background: #ffffff\; color: #242b33\; font-family: '
 Open Sans'\, Helvetica\, Arial\, Lucida\, sans-serif\; font-style: normal\
 ; font-variant-ligatures: normal\; font-variant-caps: normal\; font-weight
 : 500\; letter-spacing: normal\; orphans: 2\; text-align: start\; text-ind
 ent: 0px\; text-transform: none\; white-space: normal\; widows: 2\; word-s
 pacing: 0px\; -webkit-text-stroke-width: 0px\; text-decoration-thickness: 
 initial\; text-decoration-style: initial\; text-decoration-color: initial\
 ;'><span style='box-sizing: border-box\; margin: 0px\; padding: 0px\; bord
 er: 0px\; outline: 0px\; font-size: 16px\; text-size-adjust: 100%\; vertic
 al-align: baseline\; background: #ffffff\; color: #242b33\; font-family: '
 Open Sans'\, Helvetica\, Arial\, Lucida\, sans-serif\; font-style: normal\
 ; font-variant-ligatures: normal\; font-variant-caps: normal\; font-weight
 : 500\; letter-spacing: normal\; orphans: 2\; text-align: start\; text-ind
 ent: 0px\; text-transform: none\; white-space: normal\; widows: 2\; word-s
 pacing: 0px\; -webkit-text-stroke-width: 0px\; text-decoration-thickness: 
 initial\; text-decoration-style: initial\; text-decoration-color: initial\
 ; float: none\; display: inline !important\;'>If you are an individual wit
 h a disability who is in need of an accommodation to participate in a Stat
 e Personnel training\, please  email </span><a style='box-sizing: border-b
 ox\; margin: 0px\; padding: 0px\; border: 0px\; outline: 0px\; font-size: 
 16px\; text-size-adjust: 100%\; vertical-align: baseline\; background: #ff
 ffff\; color: #1876a5\; text-decoration: none\; font-family: 'Open Sans'\,
  Helvetica\, Arial\, Lucida\, sans-serif\; font-style: normal\; font-varia
 nt-ligatures: normal\; font-variant-caps: normal\; font-weight: 500\; lett
 er-spacing: normal\; orphans: 2\; text-align: start\; text-indent: 0px\; t
 ext-transform: none\; white-space: normal\; widows: 2\; word-spacing: 0px\
 ; -webkit-text-stroke-width: 0px\;'>Personnel.Training@state.nm.us</a><spa
 n style='box-sizing: border-box\; margin: 0px\; padding: 0px\; border: 0px
 \; outline: 0px\; font-size: 16px\; text-size-adjust: 100%\; vertical-alig
 n: baseline\; background: #ffffff\; color: #242b33\; font-family: 'Open Sa
 ns'\, Helvetica\, Arial\, Lucida\, sans-serif\; font-style: normal\; font-
 variant-ligatures: normal\; font-variant-caps: normal\; font-weight: 500\;
  letter-spacing: normal\; orphans: 2\; text-align: start\; text-indent: 0p
 x\; text-transform: none\; white-space: normal\; widows: 2\; word-spacing:
  0px\; -webkit-text-stroke-width: 0px\; text-decoration-thickness: initial
 \; text-decoration-style: initial\; text-decoration-color: initial\; float
 : none\; display: inline !important\;'>.</span></p>\n<p style='box-sizing:
  border-box\; margin: 0px\; padding: 0px\; border: 0px\; outline: 0px\; fo
 nt-size: 16px\; text-size-adjust: 100%\; vertical-align: baseline\; backgr
 ound: #ffffff\; color: #242b33\; font-family: 'Open Sans'\, Helvetica\, Ar
 ial\, Lucida\, sans-serif\; font-style: normal\; font-variant-ligatures: n
 ormal\; font-variant-caps: normal\; font-weight: 500\; letter-spacing: nor
 mal\; orphans: 2\; text-align: start\; text-indent: 0px\; text-transform: 
 none\; white-space: normal\; widows: 2\; word-spacing: 0px\; -webkit-text-
 stroke-width: 0px\; text-decoration-thickness: initial\; text-decoration-s
 tyle: initial\; text-decoration-color: initial\;'><strong>Date:</strong><s
 pan style='box-sizing: border-box\; margin: 0px\; padding: 0px\; border: 0
 px\; outline: 0px\; font-size: 16px\; text-size-adjust: 100%\; vertical-al
 ign: baseline\; background: #ffffff\; color: #242b33\; font-family: 'Open 
 Sans'\, Helvetica\, Arial\, Lucida\, sans-serif\; font-style: normal\; fon
 t-variant-ligatures: normal\; font-variant-caps: normal\; font-weight: 500
 \; letter-spacing: normal\; orphans: 2\; text-align: start\; text-indent: 
 0px\; text-transform: none\; white-space: normal\; widows: 2\; word-spacin
 g: 0px\; -webkit-text-stroke-width: 0px\; text-decoration-thickness: initi
 al\; text-decoration-style: initial\; text-decoration-color: initial\; flo
 at: none\; display: inline !important\;'><strong> </strong>Thursday\, Apri
 l 8\, 2021 </span><br style='box-sizing: border-box\; color: #242b33\; fon
 t-family: 'Open Sans'\, Helvetica\, Arial\, Lucida\, sans-serif\; font-siz
 e: 16px\; font-style: normal\; font-variant-ligatures: normal\; font-varia
 nt-caps: normal\; font-weight: 500\; letter-spacing: normal\; orphans: 2\;
  text-align: start\; text-indent: 0px\; text-transform: none\; white-space
 : normal\; widows: 2\; word-spacing: 0px\; -webkit-text-stroke-width: 0px\
 ; background-color: #ffffff\; text-decoration-thickness: initial\; text-de
 coration-style: initial\; text-decoration-color: initial\;' /><strong styl
 e='box-sizing: border-box\; margin: 0px\; padding: 0px\; border: 0px\; out
 line: 0px\; font-size: 16px\; text-size-adjust: 100%\; vertical-align: bas
 eline\; background: #ffffff\; font-weight: bold\; color: #242b33\; font-fa
 mily: 'Open Sans'\, Helvetica\, Arial\, Lucida\, sans-serif\; font-style: 
 normal\; font-variant-ligatures: normal\; font-variant-caps: normal\; lett
 er-spacing: normal\; orphans: 2\; text-align: start\; text-indent: 0px\; t
 ext-transform: none\; white-space: normal\; widows: 2\; word-spacing: 0px\
 ; -webkit-text-stroke-width: 0px\; text-decoration-thickness: initial\; te
 xt-decoration-style: initial\; text-decoration-color: initial\;'>Time:</st
 rong><span style='box-sizing: border-box\; margin: 0px\; padding: 0px\; bo
 rder: 0px\; outline: 0px\; font-size: 16px\; text-size-adjust: 100%\; vert
 ical-align: baseline\; background: #ffffff\; color: #242b33\; font-family:
  'Open Sans'\, Helvetica\, Arial\, Lucida\, sans-serif\; font-style: norma
 l\; font-variant-ligatures: normal\; font-variant-caps: normal\; font-weig
 ht: 500\; letter-spacing: normal\; orphans: 2\; text-align: start\; text-i
 ndent: 0px\; text-transform: none\; white-space: normal\; widows: 2\; word
 -spacing: 0px\; -webkit-text-stroke-width: 0px\; text-decoration-thickness
 : initial\; text-decoration-style: initial\; text-decoration-color: initia
 l\; float: none\; display: inline !important\;'> 9:00 AM – 12:00 PM</span>
 <br style='box-sizing: border-box\; color: #242b33\; font-family: 'Open Sa
 ns'\, Helvetica\, Arial\, Lucida\, sans-serif\; font-size: 16px\; font-sty
 le: normal\; font-variant-ligatures: normal\; font-variant-caps: normal\; 
 font-weight: 500\; letter-spacing: normal\; orphans: 2\; text-align: start
 \; text-indent: 0px\; text-transform: none\; white-space: normal\; widows:
  2\; word-spacing: 0px\; -webkit-text-stroke-width: 0px\; background-color
 : #ffffff\; text-decoration-thickness: initial\; text-decoration-style: in
 itial\; text-decoration-color: initial\;' /><strong style='box-sizing: bor
 der-box\; margin: 0px\; padding: 0px\; border: 0px\; outline: 0px\; font-s
 ize: 16px\; text-size-adjust: 100%\; vertical-align: baseline\; background
 : #ffffff\; font-weight: bold\; color: #242b33\; font-family: 'Open Sans'\
 , Helvetica\, Arial\, Lucida\, sans-serif\; font-style: normal\; font-vari
 ant-ligatures: normal\; font-variant-caps: normal\; letter-spacing: normal
 \; orphans: 2\; text-align: start\; text-indent: 0px\; text-transform: non
 e\; white-space: normal\; widows: 2\; word-spacing: 0px\; -webkit-text-str
 oke-width: 0px\; text-decoration-thickness: initial\; text-decoration-styl
 e: initial\; text-decoration-color: initial\;'>Links:</strong><span style=
 'box-sizing: border-box\; margin: 0px\; padding: 0px\; border: 0px\; outli
 ne: 0px\; font-size: 16px\; text-size-adjust: 100%\; vertical-align: basel
 ine\; background: #ffffff\; color: #242b33\; font-family: 'Open Sans'\, He
 lvetica\, Arial\, Lucida\, sans-serif\; font-style: normal\; font-variant-
 ligatures: normal\; font-variant-caps: normal\; font-weight: 500\; letter-
 spacing: normal\; orphans: 2\; text-align: start\; text-indent: 0px\; text
 -transform: none\; white-space: normal\; widows: 2\; word-spacing: 0px\; -
 webkit-text-stroke-width: 0px\; text-decoration-thickness: initial\; text-
 decoration-style: initial\; text-decoration-color: initial\; float: none\;
  display: inline !important\;'> Register on ELM</span><br style='box-sizin
 g: border-box\; color: #242b33\; font-family: 'Open Sans'\, Helvetica\, Ar
 ial\, Lucida\, sans-serif\; font-size: 16px\; font-style: normal\; font-va
 riant-ligatures: normal\; font-variant-caps: normal\; font-weight: 500\; l
 etter-spacing: normal\; orphans: 2\; text-align: start\; text-indent: 0px\
 ; text-transform: none\; white-space: normal\; widows: 2\; word-spacing: 0
 px\; -webkit-text-stroke-width: 0px\; background-color: #ffffff\; text-dec
 oration-thickness: initial\; text-decoration-style: initial\; text-decorat
 ion-color: initial\;' /><strong style='box-sizing: border-box\; margin: 0p
 x\; padding: 0px\; border: 0px\; outline: 0px\; font-size: 16px\; text-siz
 e-adjust: 100%\; vertical-align: baseline\; background: #ffffff\; font-wei
 ght: bold\; color: #242b33\; font-family: 'Open Sans'\, Helvetica\, Arial\
 , Lucida\, sans-serif\; font-style: normal\; font-variant-ligatures: norma
 l\; font-variant-caps: normal\; letter-spacing: normal\; orphans: 2\; text
 -align: start\; text-indent: 0px\; text-transform: none\; white-space: nor
 mal\; widows: 2\; word-spacing: 0px\; -webkit-text-stroke-width: 0px\; tex
 t-decoration-thickness: initial\; text-decoration-style: initial\; text-de
 coration-color: initial\;'>Tags:</strong><span style='box-sizing: border-b
 ox\; margin: 0px\; padding: 0px\; border: 0px\; outline: 0px\; font-size: 
 16px\; text-size-adjust: 100%\; vertical-align: baseline\; background: #ff
 ffff\; color: #242b33\; font-family: 'Open Sans'\, Helvetica\, Arial\, Luc
 ida\, sans-serif\; font-style: normal\; font-variant-ligatures: normal\; f
 ont-variant-caps: normal\; font-weight: 500\; letter-spacing: normal\; orp
 hans: 2\; text-align: start\; text-indent: 0px\; text-transform: none\; wh
 ite-space: normal\; widows: 2\; word-spacing: 0px\; -webkit-text-stroke-wi
 dth: 0px\; text-decoration-thickness: initial\; text-decoration-style: ini
 tial\; text-decoration-color: initial\; float: none\; display: inline !imp
 ortant\;'> MEP</span></p>\n\n		</div><!-- .et_builder_inner_content -->\n	</d
 iv><!-- .et-l -->\n	</BODY></HTML>
X-TAGS;LANGUAGE=en-US:MEP
END:VEVENT
END:VCALENDAR
