BEGIN:VCALENDAR
VERSION:2.0
PRODID:-//99.84.106.85//NONSGML kigkonsult.se iCalcreator 2.26.9//
CALSCALE:GREGORIAN
METHOD:PUBLISH
X-WR-CALNAME:NM SPO
X-WR-CALDESC:A trusted partner expertly leading the way in human resources 
 practices and services that enhance the employee experience.
X-FROM-URL:https://www.spo.state.nm.us
X-WR-TIMEZONE:America/Denver
BEGIN:VTIMEZONE
TZID:America/Denver
X-LIC-LOCATION:America/Denver
BEGIN:STANDARD
DTSTART:20201101T020000
TZOFFSETFROM:-0600
TZOFFSETTO:-0700
RDATE:20211107T020000,20221106T020000
TZNAME:MST
END:STANDARD
BEGIN:DAYLIGHT
DTSTART:20210314T020000
TZOFFSETFROM:-0700
TZOFFSETTO:-0600
RDATE:20220313T020000
TZNAME:MDT
END:DAYLIGHT
END:VTIMEZONE
BEGIN:VEVENT
UID:ai1ec-3027@www.spo.state.nm.us
DTSTAMP:20210512T214902Z
CATEGORIES:
CONTACT:
DESCRIPTION:<div class='et-l et-l--post'>\n			<div class='et_builder_inner_con
 tent et_pb_gutters2'>\n		<p style='box-sizing: border-box\; margin: 0px\; pa
 dding: 0px 0px 1em\; border: 0px\; outline: 0px\; font-size: 16px\; text-s
 ize-adjust: 100%\; vertical-align: baseline\; background: #ffffff\; color:
  #242b33\; font-family: 'Open Sans'\, Helvetica\, Arial\, Lucida\, sans-se
 rif\; font-style: normal\; font-variant-ligatures: normal\; font-variant-c
 aps: normal\; font-weight: 500\; letter-spacing: normal\; orphans: 2\; tex
 t-align: start\; text-indent: 0px\; text-transform: none\; white-space: no
 rmal\; widows: 2\; word-spacing: 0px\; -webkit-text-stroke-width: 0px\; te
 xt-decoration-thickness: initial\; text-decoration-style: initial\; text-d
 ecoration-color: initial\;'>CLASS SIZE LIMITED TO 25 PARTICIPANTS TO ALLOW
  FOR INTERACTIVITY.</p>\n<p style='box-sizing: border-box\; margin: 0px\; 
 padding: 0px 0px 1em\; border: 0px\; outline: 0px\; font-size: 16px\; text
 -size-adjust: 100%\; vertical-align: baseline\; background: #ffffff\; colo
 r: #242b33\; font-family: 'Open Sans'\, Helvetica\, Arial\, Lucida\, sans-
 serif\; font-style: normal\; font-variant-ligatures: normal\; font-variant
 -caps: normal\; font-weight: 500\; letter-spacing: normal\; orphans: 2\; t
 ext-align: start\; text-indent: 0px\; text-transform: none\; white-space: 
 normal\; widows: 2\; word-spacing: 0px\; -webkit-text-stroke-width: 0px\; 
 text-decoration-thickness: initial\; text-decoration-style: initial\; text
 -decoration-color: initial\;'>This class will be offered online via Zoom.<
 /p>\n<p style='box-sizing: border-box\; margin: 0px\; padding: 0px 0px 1em
 \; border: 0px\; outline: 0px\; font-size: 16px\; text-size-adjust: 100%\;
  vertical-align: baseline\; background: #ffffff\; color: #242b33\; font-fa
 mily: 'Open Sans'\, Helvetica\, Arial\, Lucida\, sans-serif\; font-style: 
 normal\; font-variant-ligatures: normal\; font-variant-caps: normal\; font
 -weight: 500\; letter-spacing: normal\; orphans: 2\; text-align: start\; t
 ext-indent: 0px\; text-transform: none\; white-space: normal\; widows: 2\;
  word-spacing: 0px\; -webkit-text-stroke-width: 0px\; text-decoration-thic
 kness: initial\; text-decoration-style: initial\; text-decoration-color: i
 nitial\;'>Information will be shared with enrolled employees.</p>\n<p styl
 e='box-sizing: border-box\; margin: 0px\; padding: 0px 0px 1em\; border: 0
 px\; outline: 0px\; font-size: 16px\; text-size-adjust: 100%\; vertical-al
 ign: baseline\; background: #ffffff\; color: #242b33\; font-family: 'Open 
 Sans'\, Helvetica\, Arial\, Lucida\, sans-serif\; font-style: normal\; fon
 t-variant-ligatures: normal\; font-variant-caps: normal\; font-weight: 500
 \; letter-spacing: normal\; orphans: 2\; text-align: start\; text-indent: 
 0px\; text-transform: none\; white-space: normal\; widows: 2\; word-spacin
 g: 0px\; -webkit-text-stroke-width: 0px\; text-decoration-thickness: initi
 al\; text-decoration-style: initial\; text-decoration-color: initial\;'>Cl
 ass Code: SoNM-1082-105</p>\n<p style='box-sizing: border-box\; margin: 0p
 x\; padding: 0px 0px 1em\; border: 0px\; outline: 0px\; font-size: 16px\; 
 text-size-adjust: 100%\; vertical-align: baseline\; background: #ffffff\; 
 color: #242b33\; font-family: 'Open Sans'\, Helvetica\, Arial\, Lucida\, s
 ans-serif\; font-style: normal\; font-variant-ligatures: normal\; font-var
 iant-caps: normal\; font-weight: 500\; letter-spacing: normal\; orphans: 2
 \; text-align: start\; text-indent: 0px\; text-transform: none\; white-spa
 ce: normal\; widows: 2\; word-spacing: 0px\; -webkit-text-stroke-width: 0p
 x\; text-decoration-thickness: initial\; text-decoration-style: initial\; 
 text-decoration-color: initial\;'>Managing Employee Performance (MEP) help
 s managers and supervisors learn to implement the Employee Evaluation Cycl
 e\, write goals that promote employee growth and development\, and rate em
 ployee performance.  The Employee Evaluation process is more than a mandat
 ory review of performance\; it’s an opportunity for you to ensure the succ
 ess of every member of your team and the mission you serve. The MEP course
  is intended to support you in that effort. New Mexico State Personnel Boa
 rd rule 1.7.9.9 requires the Managing Employee Performance course within 9
 0 days of appointment as a supervisor or manager\, but attendance is encou
 raged for any manager or supervisor who might benefit from the course. Reg
 istration required.</p>\n<p style='box-sizing: border-box\; margin: 0px\; 
 padding: 0px 0px 1em\; border: 0px\; outline: 0px\; font-size: 16px\; text
 -size-adjust: 100%\; vertical-align: baseline\; background: #ffffff\; colo
 r: #242b33\; font-family: 'Open Sans'\, Helvetica\, Arial\, Lucida\, sans-
 serif\; font-style: normal\; font-variant-ligatures: normal\; font-variant
 -caps: normal\; font-weight: 500\; letter-spacing: normal\; orphans: 2\; t
 ext-align: start\; text-indent: 0px\; text-transform: none\; white-space: 
 normal\; widows: 2\; word-spacing: 0px\; -webkit-text-stroke-width: 0px\; 
 text-decoration-thickness: initial\; text-decoration-style: initial\; text
 -decoration-color: initial\;'><span style='box-sizing: border-box\; margin
 : 0px\; padding: 0px\; border: 0px\; outline: 0px\; font-size: 16px\; text
 -size-adjust: 100%\; vertical-align: baseline\; background: #ffffff\; colo
 r: #242b33\; font-family: 'Open Sans'\, Helvetica\, Arial\, Lucida\, sans-
 serif\; font-style: normal\; font-variant-ligatures: normal\; font-variant
 -caps: normal\; font-weight: 500\; letter-spacing: normal\; orphans: 2\; t
 ext-align: start\; text-indent: 0px\; text-transform: none\; white-space: 
 normal\; widows: 2\; word-spacing: 0px\; -webkit-text-stroke-width: 0px\; 
 text-decoration-thickness: initial\; text-decoration-style: initial\; text
 -decoration-color: initial\; float: none\; display: inline !important\;'>I
 f you are an individual with a disability who is in need of an accommodati
 on to participate in a State Personnel training\, please  email </span><a 
 style='box-sizing: border-box\; margin: 0px\; padding: 0px\; border: 0px\;
  outline: 0px\; font-size: 16px\; text-size-adjust: 100%\; vertical-align:
  baseline\; background: #ffffff\; color: #1876a5\; text-decoration: none\;
  font-family: 'Open Sans'\, Helvetica\, Arial\, Lucida\, sans-serif\; font
 -style: normal\; font-variant-ligatures: normal\; font-variant-caps: norma
 l\; font-weight: 500\; letter-spacing: normal\; orphans: 2\; text-align: s
 tart\; text-indent: 0px\; text-transform: none\; white-space: normal\; wid
 ows: 2\; word-spacing: 0px\; -webkit-text-stroke-width: 0px\;'>Personnel.T
 raining@state.nm.us</a><span style='box-sizing: border-box\; margin: 0px\;
  padding: 0px\; border: 0px\; outline: 0px\; font-size: 16px\; text-size-a
 djust: 100%\; vertical-align: baseline\; background: #ffffff\; color: #242
 b33\; font-family: 'Open Sans'\, Helvetica\, Arial\, Lucida\, sans-serif\;
  font-style: normal\; font-variant-ligatures: normal\; font-variant-caps: 
 normal\; font-weight: 500\; letter-spacing: normal\; orphans: 2\; text-ali
 gn: start\; text-indent: 0px\; text-transform: none\; white-space: normal\
 ; widows: 2\; word-spacing: 0px\; -webkit-text-stroke-width: 0px\; text-de
 coration-thickness: initial\; text-decoration-style: initial\; text-decora
 tion-color: initial\; float: none\; display: inline !important\;'>.</span>
 </p>\n<p style='box-sizing: border-box\; margin: 0px\; padding: 0px\; bord
 er: 0px\; outline: 0px\; font-size: 16px\; text-size-adjust: 100%\; vertic
 al-align: baseline\; background: #ffffff\; color: #242b33\; font-family: '
 Open Sans'\, Helvetica\, Arial\, Lucida\, sans-serif\; font-style: normal\
 ; font-variant-ligatures: normal\; font-variant-caps: normal\; font-weight
 : 500\; letter-spacing: normal\; orphans: 2\; text-align: start\; text-ind
 ent: 0px\; text-transform: none\; white-space: normal\; widows: 2\; word-s
 pacing: 0px\; -webkit-text-stroke-width: 0px\; text-decoration-thickness: 
 initial\; text-decoration-style: initial\; text-decoration-color: initial\
 ;'><strong>Date:</strong><span style='box-sizing: border-box\; margin: 0px
 \; padding: 0px\; border: 0px\; outline: 0px\; font-size: 16px\; text-size
 -adjust: 100%\; vertical-align: baseline\; background: #ffffff\; color: #2
 42b33\; font-family: 'Open Sans'\, Helvetica\, Arial\, Lucida\, sans-serif
 \; font-style: normal\; font-variant-ligatures: normal\; font-variant-caps
 : normal\; font-weight: 500\; letter-spacing: normal\; orphans: 2\; text-a
 lign: start\; text-indent: 0px\; text-transform: none\; white-space: norma
 l\; widows: 2\; word-spacing: 0px\; -webkit-text-stroke-width: 0px\; text-
 decoration-thickness: initial\; text-decoration-style: initial\; text-deco
 ration-color: initial\; float: none\; display: inline !important\;'><stron
 g> </strong>Thursday\, April 29\, 2021 </span><br style='box-sizing: borde
 r-box\; color: #242b33\; font-family: 'Open Sans'\, Helvetica\, Arial\, Lu
 cida\, sans-serif\; font-size: 16px\; font-style: normal\; font-variant-li
 gatures: normal\; font-variant-caps: normal\; font-weight: 500\; letter-sp
 acing: normal\; orphans: 2\; text-align: start\; text-indent: 0px\; text-t
 ransform: none\; white-space: normal\; widows: 2\; word-spacing: 0px\; -we
 bkit-text-stroke-width: 0px\; background-color: #ffffff\; text-decoration-
 thickness: initial\; text-decoration-style: initial\; text-decoration-colo
 r: initial\;' /><strong style='box-sizing: border-box\; margin: 0px\; padd
 ing: 0px\; border: 0px\; outline: 0px\; font-size: 16px\; text-size-adjust
 : 100%\; vertical-align: baseline\; background: #ffffff\; font-weight: bol
 d\; color: #242b33\; font-family: 'Open Sans'\, Helvetica\, Arial\, Lucida
 \, sans-serif\; font-style: normal\; font-variant-ligatures: normal\; font
 -variant-caps: normal\; letter-spacing: normal\; orphans: 2\; text-align: 
 start\; text-indent: 0px\; text-transform: none\; white-space: normal\; wi
 dows: 2\; word-spacing: 0px\; -webkit-text-stroke-width: 0px\; text-decora
 tion-thickness: initial\; text-decoration-style: initial\; text-decoration
 -color: initial\;'>Time:</strong><span style='box-sizing: border-box\; mar
 gin: 0px\; padding: 0px\; border: 0px\; outline: 0px\; font-size: 16px\; t
 ext-size-adjust: 100%\; vertical-align: baseline\; background: #ffffff\; c
 olor: #242b33\; font-family: 'Open Sans'\, Helvetica\, Arial\, Lucida\, sa
 ns-serif\; font-style: normal\; font-variant-ligatures: normal\; font-vari
 ant-caps: normal\; font-weight: 500\; letter-spacing: normal\; orphans: 2\
 ; text-align: start\; text-indent: 0px\; text-transform: none\; white-spac
 e: normal\; widows: 2\; word-spacing: 0px\; -webkit-text-stroke-width: 0px
 \; text-decoration-thickness: initial\; text-decoration-style: initial\; t
 ext-decoration-color: initial\; float: none\; display: inline !important\;
 '> 9:00 AM – 12:00 PM</span><br style='box-sizing: border-box\; color: #24
 2b33\; font-family: 'Open Sans'\, Helvetica\, Arial\, Lucida\, sans-serif\
 ; font-size: 16px\; font-style: normal\; font-variant-ligatures: normal\; 
 font-variant-caps: normal\; font-weight: 500\; letter-spacing: normal\; or
 phans: 2\; text-align: start\; text-indent: 0px\; text-transform: none\; w
 hite-space: normal\; widows: 2\; word-spacing: 0px\; -webkit-text-stroke-w
 idth: 0px\; background-color: #ffffff\; text-decoration-thickness: initial
 \; text-decoration-style: initial\; text-decoration-color: initial\;' /><s
 trong style='box-sizing: border-box\; margin: 0px\; padding: 0px\; border:
  0px\; outline: 0px\; font-size: 16px\; text-size-adjust: 100%\; vertical-
 align: baseline\; background: #ffffff\; font-weight: bold\; color: #242b33
 \; font-family: 'Open Sans'\, Helvetica\, Arial\, Lucida\, sans-serif\; fo
 nt-style: normal\; font-variant-ligatures: normal\; font-variant-caps: nor
 mal\; letter-spacing: normal\; orphans: 2\; text-align: start\; text-inden
 t: 0px\; text-transform: none\; white-space: normal\; widows: 2\; word-spa
 cing: 0px\; -webkit-text-stroke-width: 0px\; text-decoration-thickness: in
 itial\; text-decoration-style: initial\; text-decoration-color: initial\;'
 >Links:</strong><span style='box-sizing: border-box\; margin: 0px\; paddin
 g: 0px\; border: 0px\; outline: 0px\; font-size: 16px\; text-size-adjust: 
 100%\; vertical-align: baseline\; background: #ffffff\; color: #242b33\; f
 ont-family: 'Open Sans'\, Helvetica\, Arial\, Lucida\, sans-serif\; font-s
 tyle: normal\; font-variant-ligatures: normal\; font-variant-caps: normal\
 ; font-weight: 500\; letter-spacing: normal\; orphans: 2\; text-align: sta
 rt\; text-indent: 0px\; text-transform: none\; white-space: normal\; widow
 s: 2\; word-spacing: 0px\; -webkit-text-stroke-width: 0px\; text-decoratio
 n-thickness: initial\; text-decoration-style: initial\; text-decoration-co
 lor: initial\; float: none\; display: inline !important\;'> Register on EL
 M</span><br style='box-sizing: border-box\; color: #242b33\; font-family: 
 'Open Sans'\, Helvetica\, Arial\, Lucida\, sans-serif\; font-size: 16px\; 
 font-style: normal\; font-variant-ligatures: normal\; font-variant-caps: n
 ormal\; font-weight: 500\; letter-spacing: normal\; orphans: 2\; text-alig
 n: start\; text-indent: 0px\; text-transform: none\; white-space: normal\;
  widows: 2\; word-spacing: 0px\; -webkit-text-stroke-width: 0px\; backgrou
 nd-color: #ffffff\; text-decoration-thickness: initial\; text-decoration-s
 tyle: initial\; text-decoration-color: initial\;' /><strong style='box-siz
 ing: border-box\; margin: 0px\; padding: 0px\; border: 0px\; outline: 0px\
 ; font-size: 16px\; text-size-adjust: 100%\; vertical-align: baseline\; ba
 ckground: #ffffff\; font-weight: bold\; color: #242b33\; font-family: 'Ope
 n Sans'\, Helvetica\, Arial\, Lucida\, sans-serif\; font-style: normal\; f
 ont-variant-ligatures: normal\; font-variant-caps: normal\; letter-spacing
 : normal\; orphans: 2\; text-align: start\; text-indent: 0px\; text-transf
 orm: none\; white-space: normal\; widows: 2\; word-spacing: 0px\; -webkit-
 text-stroke-width: 0px\; text-decoration-thickness: initial\; text-decorat
 ion-style: initial\; text-decoration-color: initial\;'>Tags:</strong><span
  style='box-sizing: border-box\; margin: 0px\; padding: 0px\; border: 0px\
 ; outline: 0px\; font-size: 16px\; text-size-adjust: 100%\; vertical-align
 : baseline\; background: #ffffff\; color: #242b33\; font-family: 'Open San
 s'\, Helvetica\, Arial\, Lucida\, sans-serif\; font-style: normal\; font-v
 ariant-ligatures: normal\; font-variant-caps: normal\; font-weight: 500\; 
 letter-spacing: normal\; orphans: 2\; text-align: start\; text-indent: 0px
 \; text-transform: none\; white-space: normal\; widows: 2\; word-spacing: 
 0px\; -webkit-text-stroke-width: 0px\; text-decoration-thickness: initial\
 ; text-decoration-style: initial\; text-decoration-color: initial\; float:
  none\; display: inline !important\;'> MEP</span></p>\n\n		</div><!-- .et_bu
 ilder_inner_content -->\n	</div><!-- .et-l -->
DTSTART;TZID=America/Denver:20210429T090000
DTEND;TZID=America/Denver:20210429T120000
SEQUENCE:0
SUMMARY:Online Delivery: AM Class – Managing Employee Performance
URL:https://www.spo.state.nm.us/event/online-delivery-am-class-managing-emp
 loyee-performance-10/
X-COST-TYPE:free
X-TAGS;LANGUAGE=en-US:MEP
END:VEVENT
END:VCALENDAR
