BEGIN:VCALENDAR
VERSION:2.0
PRODID:-//13.32.181.79//NONSGML kigkonsult.se iCalcreator 2.26.9//
CALSCALE:GREGORIAN
METHOD:PUBLISH
X-WR-CALNAME:NM SPO
X-WR-CALDESC:A trusted partner expertly leading the way in human resources 
 practices and services that enhance the employee experience.
X-FROM-URL:https://www.spo.state.nm.us
X-WR-TIMEZONE:America/Denver
BEGIN:VTIMEZONE
TZID:America/Denver
X-LIC-LOCATION:America/Denver
BEGIN:STANDARD
DTSTART:20201101T020000
TZOFFSETFROM:-0600
TZOFFSETTO:-0700
RDATE:20211107T020000,20221106T020000
TZNAME:MST
END:STANDARD
BEGIN:DAYLIGHT
DTSTART:20210314T020000
TZOFFSETFROM:-0700
TZOFFSETTO:-0600
RDATE:20220313T020000
TZNAME:MDT
END:DAYLIGHT
END:VTIMEZONE
BEGIN:VEVENT
UID:ai1ec-3028@www.spo.state.nm.us
DTSTAMP:20210510T064102Z
CATEGORIES:
CONTACT:
DESCRIPTION:<div class='et-l et-l--post'>\n			<div class='et_builder_inner_con
 tent et_pb_gutters2'>\n		<p style='box-sizing: border-box\; margin: 0px\; pa
 dding: 0px 0px 1em\; border: 0px\; outline: 0px\; font-size: 16px\; text-s
 ize-adjust: 100%\; vertical-align: baseline\; background: #ffffff\; color:
  #242b33\; font-family: 'Open Sans'\, Helvetica\, Arial\, Lucida\, sans-se
 rif\; font-style: normal\; font-variant-ligatures: normal\; font-variant-c
 aps: normal\; font-weight: 500\; letter-spacing: normal\; orphans: 2\; tex
 t-align: start\; text-indent: 0px\; text-transform: none\; white-space: no
 rmal\; widows: 2\; word-spacing: 0px\; -webkit-text-stroke-width: 0px\; te
 xt-decoration-thickness: initial\; text-decoration-style: initial\; text-d
 ecoration-color: initial\;'>CLASS SIZE LIMITED TO 25 PARTICIPANTS TO ALLOW
  FOR INTERACTIVITY.</p>\n<p style='box-sizing: border-box\; margin: 0px\; 
 padding: 0px 0px 1em\; border: 0px\; outline: 0px\; font-size: 16px\; text
 -size-adjust: 100%\; vertical-align: baseline\; background: #ffffff\; colo
 r: #242b33\; font-family: 'Open Sans'\, Helvetica\, Arial\, Lucida\, sans-
 serif\; font-style: normal\; font-variant-ligatures: normal\; font-variant
 -caps: normal\; font-weight: 500\; letter-spacing: normal\; orphans: 2\; t
 ext-align: start\; text-indent: 0px\; text-transform: none\; white-space: 
 normal\; widows: 2\; word-spacing: 0px\; -webkit-text-stroke-width: 0px\; 
 text-decoration-thickness: initial\; text-decoration-style: initial\; text
 -decoration-color: initial\;'>This class will be offered online via Zoom.<
 /p>\n<p style='box-sizing: border-box\; margin: 0px\; padding: 0px 0px 1em
 \; border: 0px\; outline: 0px\; font-size: 16px\; text-size-adjust: 100%\;
  vertical-align: baseline\; background: #ffffff\; color: #242b33\; font-fa
 mily: 'Open Sans'\, Helvetica\, Arial\, Lucida\, sans-serif\; font-style: 
 normal\; font-variant-ligatures: normal\; font-variant-caps: normal\; font
 -weight: 500\; letter-spacing: normal\; orphans: 2\; text-align: start\; t
 ext-indent: 0px\; text-transform: none\; white-space: normal\; widows: 2\;
  word-spacing: 0px\; -webkit-text-stroke-width: 0px\; text-decoration-thic
 kness: initial\; text-decoration-style: initial\; text-decoration-color: i
 nitial\;'>Information will be shared soon with enrolled employees.</p>\n<p
  style='box-sizing: border-box\; margin: 0px\; padding: 0px 0px 1em\; bord
 er: 0px\; outline: 0px\; font-size: 16px\; text-size-adjust: 100%\; vertic
 al-align: baseline\; background: #ffffff\; color: #242b33\; font-family: '
 Open Sans'\, Helvetica\, Arial\, Lucida\, sans-serif\; font-style: normal\
 ; font-variant-ligatures: normal\; font-variant-caps: normal\; font-weight
 : 500\; letter-spacing: normal\; orphans: 2\; text-align: start\; text-ind
 ent: 0px\; text-transform: none\; white-space: normal\; widows: 2\; word-s
 pacing: 0px\; -webkit-text-stroke-width: 0px\; text-decoration-thickness: 
 initial\; text-decoration-style: initial\; text-decoration-color: initial\
 ;'>Class Code: SoNM-1632-46</p>\n<p style='box-sizing: border-box\; margin
 : 0px\; padding: 0px 0px 1em\; border: 0px\; outline: 0px\; font-size: 16p
 x\; text-size-adjust: 100%\; vertical-align: baseline\; background: #fffff
 f\; color: #242b33\; font-family: 'Open Sans'\, Helvetica\, Arial\, Lucida
 \, sans-serif\; font-style: normal\; font-variant-ligatures: normal\; font
 -variant-caps: normal\; font-weight: 500\; letter-spacing: normal\; orphan
 s: 2\; text-align: start\; text-indent: 0px\; text-transform: none\; white
 -space: normal\; widows: 2\; word-spacing: 0px\; -webkit-text-stroke-width
 : 0px\; text-decoration-thickness: initial\; text-decoration-style: initia
 l\; text-decoration-color: initial\;'>Registration required. Strategies fo
 r Positive Management (SPM) addresses common issues in supervision from an
  approach of using positive strategies to guide your employees toward grow
 th and success.  The course is highly interactive and discussion-based and
  is intended to benefit both new and experienced supervisors.  It includes
  sections on motivation and engagement\, positive coaching and feedback\, 
 and handling common challenges such as time management and effectively man
 aging supervisor/supervisee relationships.</p>\n<p style='box-sizing: bord
 er-box\; margin: 0px\; padding: 0px 0px 1em\; border: 0px\; outline: 0px\;
  font-size: 16px\; text-size-adjust: 100%\; vertical-align: baseline\; bac
 kground: #ffffff\; color: #242b33\; font-family: 'Open Sans'\, Helvetica\,
  Arial\, Lucida\, sans-serif\; font-style: normal\; font-variant-ligatures
 : normal\; font-variant-caps: normal\; font-weight: 500\; letter-spacing: 
 normal\; orphans: 2\; text-align: start\; text-indent: 0px\; text-transfor
 m: none\; white-space: normal\; widows: 2\; word-spacing: 0px\; -webkit-te
 xt-stroke-width: 0px\; text-decoration-thickness: initial\; text-decoratio
 n-style: initial\; text-decoration-color: initial\;'>If you are an individ
 ual with a disability who is in need of an accommodation to participate in
  a State Personnel training\, please email <a href='mailto:Personnel.Train
 ing@state.nm.us'>Personnel.Training@state.nm.us</a>.</p>\n<p style='box-si
 zing: border-box\; margin: 0px\; padding: 0px\; border: 0px\; outline: 0px
 \; font-size: 16px\; text-size-adjust: 100%\; vertical-align: baseline\; b
 ackground: #ffffff\; color: #242b33\; font-family: 'Open Sans'\, Helvetica
 \, Arial\, Lucida\, sans-serif\; font-style: normal\; font-variant-ligatur
 es: normal\; font-variant-caps: normal\; font-weight: 500\; letter-spacing
 : normal\; orphans: 2\; text-align: start\; text-indent: 0px\; text-transf
 orm: none\; white-space: normal\; widows: 2\; word-spacing: 0px\; -webkit-
 text-stroke-width: 0px\; text-decoration-thickness: initial\; text-decorat
 ion-style: initial\; text-decoration-color: initial\;'><strong>Date:</stro
 ng> Tuesday\, April 6\, 2021<br />\n<strong>Time:</strong> 9:00 AM – 12:00
  PM<br />\n<strong>Links:</strong> Register on ELM<br />\n<strong>Tags:</s
 trong> SPM</p>\n\n		</div><!-- .et_builder_inner_content -->\n	</div><!-- .et
 -l -->
DTSTART;TZID=America/Denver:20210406T090000
DTEND;TZID=America/Denver:20210406T120000
SEQUENCE:0
SUMMARY:Online Delivery: AM class – Strategies for Positive Management
URL:https://www.spo.state.nm.us/event/online-delivery-am-class-strategies-f
 or-positive-management-4/
X-COST-TYPE:free
X-TAGS;LANGUAGE=en-US:SPM
END:VEVENT
END:VCALENDAR
