BEGIN:VCALENDAR
VERSION:2.0
PRODID:-//13.32.181.12//NONSGML kigkonsult.se iCalcreator 2.26.9//
CALSCALE:GREGORIAN
METHOD:PUBLISH
X-WR-CALNAME:NM SPO
X-WR-CALDESC:A trusted partner expertly leading the way in human resources 
 practices and services that enhance the employee experience.
X-FROM-URL:https://www.spo.state.nm.us
X-WR-TIMEZONE:America/Denver
BEGIN:VTIMEZONE
TZID:America/Denver
X-LIC-LOCATION:America/Denver
BEGIN:STANDARD
DTSTART:20201101T020000
TZOFFSETFROM:-0600
TZOFFSETTO:-0700
RDATE:20211107T020000,20221106T020000
TZNAME:MST
END:STANDARD
BEGIN:DAYLIGHT
DTSTART:20210314T020000
TZOFFSETFROM:-0700
TZOFFSETTO:-0600
RDATE:20220313T020000
TZNAME:MDT
END:DAYLIGHT
END:VTIMEZONE
BEGIN:VEVENT
UID:ai1ec-3030@www.spo.state.nm.us
DTSTAMP:20210510T064739Z
CATEGORIES:
CONTACT:
DESCRIPTION:<div class='et-l et-l--post'>\n			<div class='et_builder_inner_con
 tent et_pb_gutters2'>\n		<div id='main-content' style='box-sizing: border-bo
 x\; margin: 0px\; padding: 0px\; border: 0px\; outline: 0px\; font-size: 1
 6px\; text-size-adjust: 100%\; vertical-align: baseline\; background: #fff
 fff\; color: #242b33\; font-family: 'Open Sans'\, Helvetica\, Arial\, Luci
 da\, sans-serif\; font-style: normal\; font-variant-ligatures: normal\; fo
 nt-variant-caps: normal\; font-weight: 500\; letter-spacing: normal\; orph
 ans: 2\; text-align: start\; text-indent: 0px\; text-transform: none\; whi
 te-space: normal\; widows: 2\; word-spacing: 0px\; -webkit-text-stroke-wid
 th: 0px\; text-decoration-thickness: initial\; text-decoration-style: init
 ial\; text-decoration-color: initial\;'>\n<div class='et-l et-l--body'>\n<
 div class='et_builder_inner_content et_pb_gutters2'>\n<div class='et_pb_se
 ction et_pb_section_1_tb_body et_section_regular'>\n<div class='et_pb_row 
 et_pb_row_1_tb_body'>\n<div class='et_pb_column et_pb_column_4_4 et_pb_col
 umn_1_tb_body et_pb_css_mix_blend_mode_passthrough et-last-child'>\n<div c
 lass='et_pb_module et_pb_post_content et_pb_post_content_0_tb_body'>\n<p>C
 LASS SIZE LIMITED TO 25 PARTICIPANTS TO ALLOW FOR INTERACTIVITY.</p>\n<p>T
 his class will be offered online via Zoom.</p>\n<p>Information will be sha
 red with enrolled employees.</p>\n<p>Class Code: SoNM-1677-4</p>\n<p>This 
 training helps learners identify their own preferred communication style\,
  and to recognize styles preferred by others\, strengthening communication
  skills. Learn the four basic communication styles used by different peopl
 e. Understanding these basic preferences will allow you to communicate mor
 e effectively and efficiently.</p>\n<p>​If you are an individual with a di
 sability who is in need of an accommodation to participate in a State Pers
 onnel training\, please email <a href='mailto:Personnel.Training@state.nm.
 us'>Personnel.Training@state.nm.us</a>.</p>\n<p><strong>Date:</strong> Tue
 sday\, March 9\, 2021 – Tuesday\, March 9\, 2021<br />\n<strong>Time:</str
 ong> 9:00 AM – 11:00 AM</p>\n<p><strong>Links: </strong>Register on ELM<br
  />\n<strong>Tags:</strong> COMM</p>\n<footer class='timely ai1ec-event-fo
 oter' style='box-sizing: border-box\; display: block\; margin: 9px 0px\; f
 ont-family: 'Open Sans'\, Helvetica\, Arial\, Lucida\, sans-serif\; font-s
 ize: 13px\; line-height: 1.42857\; color: #7c8085\; overflow-wrap: break-w
 ord\; clear: both\;'></footer>\n</div>\n</div>\n</div>\n</div>\n</div>\n</
 div>\n</div>\n<footer class='et-l et-l--footer' style='box-sizing: border-
 box\; display: block\; color: #242b33\; font-family: 'Open Sans'\, Helveti
 ca\, Arial\, Lucida\, sans-serif\; font-size: 16px\; font-style: normal\; 
 font-variant-ligatures: normal\; font-variant-caps: normal\; font-weight: 
 500\; letter-spacing: normal\; orphans: 2\; text-align: start\; text-inden
 t: 0px\; text-transform: none\; white-space: normal\; widows: 2\; word-spa
 cing: 0px\; -webkit-text-stroke-width: 0px\; background-color: #ffffff\; t
 ext-decoration-thickness: initial\; text-decoration-style: initial\; text-
 decoration-color: initial\;'>\n<div class='et_builder_inner_content et_pb_
 gutters2'>\n<div class='et_pb_section et_pb_section_0_tb_footer et_pb_with
 _background et_section_regular'>\n<div class='et_pb_row et_pb_row_0_tb_foo
 ter'>\n<div class='et_pb_column et_pb_column_4_4 et_pb_column_0_tb_footer 
 et_pb_css_mix_blend_mode_passthrough et-last-child'>\n<div class='et_pb_mo
 dule et_pb_text et_pb_text_0_tb_footer et_pb_text_align_center et_pb_bg_la
 yout_dark'>\n<div class='et_pb_text_inner'></div>\n</div>\n</div>\n</div>
 \n</div>\n</div>\n</footer>\n\n		</div><!-- .et_builder_inner_content -->\n	<
 /div><!-- .et-l -->
DTSTART;TZID=America/Denver:20210413T090000
DTEND;TZID=America/Denver:20210413T110000
SEQUENCE:0
SUMMARY:Online Delivery: AM class – What’s Your Communication Style?
URL:https://www.spo.state.nm.us/event/online-delivery-am-class-whats-your-c
 ommunication-style-4/
X-COST-TYPE:free
X-TAGS;LANGUAGE=en-US:COMM
END:VEVENT
END:VCALENDAR
