BEGIN:VCALENDAR
VERSION:2.0
PRODID:-//13.32.181.79//NONSGML kigkonsult.se iCalcreator 2.26.9//
CALSCALE:GREGORIAN
METHOD:PUBLISH
X-WR-CALNAME:NM SPO
X-WR-CALDESC:A trusted partner expertly leading the way in human resources 
 practices and services that enhance the employee experience.
X-FROM-URL:https://www.spo.state.nm.us
X-WR-TIMEZONE:America/Denver
BEGIN:VTIMEZONE
TZID:America/Denver
X-LIC-LOCATION:America/Denver
BEGIN:STANDARD
DTSTART:20201101T020000
TZOFFSETFROM:-0600
TZOFFSETTO:-0700
RDATE:20211107T020000,20221106T020000
TZNAME:MST
END:STANDARD
BEGIN:DAYLIGHT
DTSTART:20210314T020000
TZOFFSETFROM:-0700
TZOFFSETTO:-0600
RDATE:20220313T020000
TZNAME:MDT
END:DAYLIGHT
END:VTIMEZONE
BEGIN:VEVENT
UID:ai1ec-3092@www.spo.state.nm.us
DTSTAMP:20210522T221709Z
CATEGORIES:
CONTACT:
DESCRIPTION:CLASS SIZE LIMITED TO 35 PARTICIPANTS TO ALLOW FOR INTERACTIVIT
 Y.\nThis class will be offered online via Zoom.\nInformation will be share
 d with enrolled employees.\nClass Code: SoNM-1653-28\nParticipants will de
 velop a better understanding of how to engage and collaborate with Native 
 communities in New Mexico\; learn the omitted history of Native Nations in
  this country and its impact\; and best practices of New Mexico Tribes and
  Pueblos.\nIf you are an individual with a disability who is in need of an
  accommodation to participate in a State Personnel training\, please email
  Personnel.Training@state.nm.us.\nDate: Tuesday\, June 15\, 2021 – Tuesday
 \, June 15\, 2021\nTime: 8:30 AM – 1:30 PM\nLinks: Register on ELM\nTags: 
 BCENN
DTSTART;TZID=America/Denver:20210615T083000
DTEND;TZID=America/Denver:20210615T133000
SEQUENCE:0
SUMMARY:Online Delivery: AM Class – Building Cultural Equity with Native Na
 tions
URL:https://www.spo.state.nm.us/event/online-delivery-am-class-building-cul
 tural-equity-with-native-nations-4/
X-COST-TYPE:free
X-ALT-DESC;FMTTYPE=text/html:<!DOCTYPE HTML PUBLIC '-//W3C//DTD HTML 3.2//E
 N'>\\n<HTML>\\n<HEAD>\\n<TITLE></TITLE>\\n</HEAD>\\n<BODY><div class='et-l
  et-l--post'>\n			<div class='et_builder_inner_content et_pb_gutters2'>\n		<p>C
 LASS SIZE LIMITED TO 35 PARTICIPANTS TO ALLOW FOR INTERACTIVITY.</p>\n<p>T
 his class will be offered online via Zoom.</p>\n<p>Information will be sha
 red with enrolled employees.</p>\n<p>Class Code: SoNM-1653-28</p>\n<p>Part
 icipants will develop a better understanding of how to engage and collabor
 ate with Native communities in New Mexico\; learn the omitted history of N
 ative Nations in this country and its impact\; and best practices of New M
 exico Tribes and Pueblos.</p>\n<p>If you are an individual with a disabili
 ty who is in need of an accommodation to participate in a State Personnel 
 training\, please email <a href='mailto:Personnel.Training@state.nm.us'>Pe
 rsonnel.Training@state.nm.us</a>.</p>\n<p><strong>Date:</strong> Tuesday\,
  June 15\, 2021 – Tuesday\, June 15\, 2021<br />\n<strong>Time: </strong>8
 :30 AM – 1:30 PM<br />\n<strong>Links:</strong> Register on ELM<br />\n<st
 rong>Tags:</strong> BCENN</p>\n\n		</div><!-- .et_builder_inner_content -->
 \n	</div><!-- .et-l -->\n	</BODY></HTML>
X-TAGS;LANGUAGE=en-US:BCENN
END:VEVENT
END:VCALENDAR
