BEGIN:VCALENDAR
VERSION:2.0
PRODID:-//99.84.98.35//NONSGML kigkonsult.se iCalcreator 2.26.9//
CALSCALE:GREGORIAN
METHOD:PUBLISH
X-WR-CALNAME:NM SPO
X-WR-CALDESC:A trusted partner expertly leading the way in human resources 
 practices and services that enhance the employee experience.
X-FROM-URL:https://www.spo.state.nm.us
X-WR-TIMEZONE:America/Denver
BEGIN:VTIMEZONE
TZID:America/Denver
X-LIC-LOCATION:America/Denver
BEGIN:STANDARD
DTSTART:20201101T020000
TZOFFSETFROM:-0600
TZOFFSETTO:-0700
RDATE:20211107T020000,20221106T020000
TZNAME:MST
END:STANDARD
BEGIN:DAYLIGHT
DTSTART:20210314T020000
TZOFFSETFROM:-0700
TZOFFSETTO:-0600
RDATE:20220313T020000
TZNAME:MDT
END:DAYLIGHT
END:VTIMEZONE
BEGIN:VEVENT
UID:ai1ec-3094@www.spo.state.nm.us
DTSTAMP:20210514T002855Z
CATEGORIES:
CONTACT:
DESCRIPTION:<div class='et-l et-l--post'>\n			<div class='et_builder_inner_con
 tent et_pb_gutters2'>\n		<h3><strong>THIS CLASS HAS BEEN CANCELLED DUE TO LO
 W ENROLLMENT. </strong></h3>\n<p>Class Code: SoNM-1677-5</p>\n<p>This trai
 ning helps learners identify their own preferred communication style\, and
  to recognize styles preferred by others\, strengthening communication ski
 lls. Learn the four basic communication styles used by different people. U
 nderstanding these basic preferences will allow you to communicate more ef
 fectively and efficiently.</p>\n<p>​If you are an individual with a disabi
 lity who is in need of an accommodation to participate in a State Personne
 l training\, please email <a href='mailto:Personnel.Training@state.nm.us'>
 Personnel.Training@state.nm.us</a>.</p>\n<p><strong>Date:</strong> Tuesday
 \, May 4\, 2021 – Tuesday\, May 4\, 2021<br />\n<strong>Time:</strong> 9:0
 0 AM – 11:00 AM</p>\n<p>L<strong>inks: </strong>Register on ELM<br />\n<st
 rong>Tags:</strong> COMM</p>\n\n		</div><!-- .et_builder_inner_content -->\n
 	</div><!-- .et-l -->
DTSTART;TZID=America/Denver:20210504T090000
DTEND;TZID=America/Denver:20210504T110000
SEQUENCE:0
SUMMARY:Cancelled – Online Delivery: AM Class – What’s Your Communication S
 tyle?
URL:https://www.spo.state.nm.us/event/online-delivery-am-class-whats-your-c
 ommunication-style-5/
X-COST-TYPE:free
X-TAGS;LANGUAGE=en-US:COMM
END:VEVENT
END:VCALENDAR
