BEGIN:VCALENDAR
VERSION:2.0
PRODID:-//99.84.98.119//NONSGML kigkonsult.se iCalcreator 2.26.9//
CALSCALE:GREGORIAN
METHOD:PUBLISH
X-WR-CALNAME:NM SPO
X-WR-CALDESC:A trusted partner expertly leading the way in human resources 
 practices and services that enhance the employee experience.
X-FROM-URL:https://www.spo.state.nm.us
X-WR-TIMEZONE:America/Denver
BEGIN:VTIMEZONE
TZID:America/Denver
X-LIC-LOCATION:America/Denver
BEGIN:STANDARD
DTSTART:20201101T020000
TZOFFSETFROM:-0600
TZOFFSETTO:-0700
RDATE:20211107T020000,20221106T020000
TZNAME:MST
END:STANDARD
BEGIN:DAYLIGHT
DTSTART:20210314T020000
TZOFFSETFROM:-0700
TZOFFSETTO:-0600
RDATE:20220313T020000
TZNAME:MDT
END:DAYLIGHT
END:VTIMEZONE
BEGIN:VEVENT
UID:ai1ec-3209@www.spo.state.nm.us
DTSTAMP:20210523T064445Z
CATEGORIES:
CONTACT:
DESCRIPTION:This class will be offered to Department of Workforce Solutions
  Employees only.\nCLASS SIZE LIMITED TO 24 PARTICIPANTS TO ALLOW FOR INTER
 ACTIVITY.\nThis class will be offered online via Zoom.\nInformation will b
 e shared with enrolled employees.\nClass Code: SoNM-1677-6\nThis training 
 helps learners identify their own preferred communication style\, and to r
 ecognize styles preferred by others\, strengthening communication skills. 
 Learn the four basic communication styles used by different people. Unders
 tanding these basic preferences will allow you to communicate more effecti
 vely and efficiently.\n​If you are an individual with a disability who is 
 in need of an accommodation to participate in a State Personnel training\,
  please email Personnel.Training@state.nm.us.\nDate: Thursday\, May 13\, 2
 021 – Thursday\, May 13\, 2021\nTime: 1:30 PM – 3:30 PM\nLinks: Register o
 n ELM\nTags: COMM
DTSTART;TZID=America/Denver:20210513T133000
DTEND;TZID=America/Denver:20210513T153000
SEQUENCE:0
SUMMARY:Online Delivery: AM Class – What’s Your Communication Style?
URL:https://www.spo.state.nm.us/event/online-delivery-am-class-whats-your-c
 ommunication-style-6/
X-COST-TYPE:free
X-ALT-DESC;FMTTYPE=text/html:<!DOCTYPE HTML PUBLIC '-//W3C//DTD HTML 3.2//E
 N'>\\n<HTML>\\n<HEAD>\\n<TITLE></TITLE>\\n</HEAD>\\n<BODY><div class='et-l
  et-l--post'>\n			<div class='et_builder_inner_content et_pb_gutters2'>\n		<p><
 strong>This class will be offered to Department of Workforce Solutions Emp
 loyees only</strong>.</p>\n<p style='box-sizing: border-box\; margin: 0px\
 ; padding: 0px 0px 1em\; border: 0px\; outline: 0px\; font-size: 16px\; te
 xt-size-adjust: 100%\; vertical-align: baseline\; background: #ffffff\; co
 lor: #242b33\; font-family: 'Open Sans'\, Helvetica\, Arial\, Lucida\, san
 s-serif\; font-style: normal\; font-variant-ligatures: normal\; font-varia
 nt-caps: normal\; font-weight: 500\; letter-spacing: normal\; orphans: 2\;
  text-align: start\; text-indent: 0px\; text-transform: none\; white-space
 : normal\; widows: 2\; word-spacing: 0px\; -webkit-text-stroke-width: 0px\
 ; text-decoration-thickness: initial\; text-decoration-style: initial\; te
 xt-decoration-color: initial\;'>CLASS SIZE LIMITED TO 24 PARTICIPANTS TO A
 LLOW FOR INTERACTIVITY.</p>\n<p style='box-sizing: border-box\; margin: 0p
 x\; padding: 0px 0px 1em\; border: 0px\; outline: 0px\; font-size: 16px\; 
 text-size-adjust: 100%\; vertical-align: baseline\; background: #ffffff\; 
 color: #242b33\; font-family: 'Open Sans'\, Helvetica\, Arial\, Lucida\, s
 ans-serif\; font-style: normal\; font-variant-ligatures: normal\; font-var
 iant-caps: normal\; font-weight: 500\; letter-spacing: normal\; orphans: 2
 \; text-align: start\; text-indent: 0px\; text-transform: none\; white-spa
 ce: normal\; widows: 2\; word-spacing: 0px\; -webkit-text-stroke-width: 0p
 x\; text-decoration-thickness: initial\; text-decoration-style: initial\; 
 text-decoration-color: initial\;'>This class will be offered online via Zo
 om.</p>\n<p style='box-sizing: border-box\; margin: 0px\; padding: 0px 0px
  1em\; border: 0px\; outline: 0px\; font-size: 16px\; text-size-adjust: 10
 0%\; vertical-align: baseline\; background: #ffffff\; color: #242b33\; fon
 t-family: 'Open Sans'\, Helvetica\, Arial\, Lucida\, sans-serif\; font-sty
 le: normal\; font-variant-ligatures: normal\; font-variant-caps: normal\; 
 font-weight: 500\; letter-spacing: normal\; orphans: 2\; text-align: start
 \; text-indent: 0px\; text-transform: none\; white-space: normal\; widows:
  2\; word-spacing: 0px\; -webkit-text-stroke-width: 0px\; text-decoration-
 thickness: initial\; text-decoration-style: initial\; text-decoration-colo
 r: initial\;'>Information will be shared with enrolled employees.</p>\n<p 
 style='box-sizing: border-box\; margin: 0px\; padding: 0px 0px 1em\; borde
 r: 0px\; outline: 0px\; font-size: 16px\; text-size-adjust: 100%\; vertica
 l-align: baseline\; background: #ffffff\; color: #242b33\; font-family: 'O
 pen Sans'\, Helvetica\, Arial\, Lucida\, sans-serif\; font-style: normal\;
  font-variant-ligatures: normal\; font-variant-caps: normal\; font-weight:
  500\; letter-spacing: normal\; orphans: 2\; text-align: start\; text-inde
 nt: 0px\; text-transform: none\; white-space: normal\; widows: 2\; word-sp
 acing: 0px\; -webkit-text-stroke-width: 0px\; text-decoration-thickness: i
 nitial\; text-decoration-style: initial\; text-decoration-color: initial\;
 '>Class Code: SoNM-1677-6</p>\n<p style='box-sizing: border-box\; margin: 
 0px\; padding: 0px 0px 1em\; border: 0px\; outline: 0px\; font-size: 16px\
 ; text-size-adjust: 100%\; vertical-align: baseline\; background: #ffffff\
 ; color: #242b33\; font-family: 'Open Sans'\, Helvetica\, Arial\, Lucida\,
  sans-serif\; font-style: normal\; font-variant-ligatures: normal\; font-v
 ariant-caps: normal\; font-weight: 500\; letter-spacing: normal\; orphans:
  2\; text-align: start\; text-indent: 0px\; text-transform: none\; white-s
 pace: normal\; widows: 2\; word-spacing: 0px\; -webkit-text-stroke-width: 
 0px\; text-decoration-thickness: initial\; text-decoration-style: initial\
 ; text-decoration-color: initial\;'>This training helps learners identify 
 their own preferred communication style\, and to recognize styles preferre
 d by others\, strengthening communication skills. Learn the four basic com
 munication styles used by different people. Understanding these basic pref
 erences will allow you to communicate more effectively and efficiently.</p
 >\n<p style='box-sizing: border-box\; margin: 0px\; padding: 0px 0px 1em\;
  border: 0px\; outline: 0px\; font-size: 16px\; text-size-adjust: 100%\; v
 ertical-align: baseline\; background: #ffffff\; color: #242b33\; font-fami
 ly: 'Open Sans'\, Helvetica\, Arial\, Lucida\, sans-serif\; font-style: no
 rmal\; font-variant-ligatures: normal\; font-variant-caps: normal\; font-w
 eight: 500\; letter-spacing: normal\; orphans: 2\; text-align: start\; tex
 t-indent: 0px\; text-transform: none\; white-space: normal\; widows: 2\; w
 ord-spacing: 0px\; -webkit-text-stroke-width: 0px\; text-decoration-thickn
 ess: initial\; text-decoration-style: initial\; text-decoration-color: ini
 tial\;'>​If you are an individual with a disability who is in need of an a
 ccommodation to participate in a State Personnel training\, please email <
 a href='mailto:Personnel.Training@state.nm.us'>Personnel.Training@state.nm
 .us</a>.</p>\n<p style='box-sizing: border-box\; margin: 0px\; padding: 0p
 x 0px 1em\; border: 0px\; outline: 0px\; font-size: 16px\; text-size-adjus
 t: 100%\; vertical-align: baseline\; background: #ffffff\; color: #242b33\
 ; font-family: 'Open Sans'\, Helvetica\, Arial\, Lucida\, sans-serif\; fon
 t-style: normal\; font-variant-ligatures: normal\; font-variant-caps: norm
 al\; font-weight: 500\; letter-spacing: normal\; orphans: 2\; text-align: 
 start\; text-indent: 0px\; text-transform: none\; white-space: normal\; wi
 dows: 2\; word-spacing: 0px\; -webkit-text-stroke-width: 0px\; text-decora
 tion-thickness: initial\; text-decoration-style: initial\; text-decoration
 -color: initial\;'><strong>Date:</strong> Thursday\, May 13\, 2021 – Thurs
 day\, May 13\, 2021<br />\n<strong>Time:</strong> 1:30 PM – 3:30 PM</p>\n<
 p style='box-sizing: border-box\; margin: 0px\; padding: 0px\; border: 0px
 \; outline: 0px\; font-size: 16px\; text-size-adjust: 100%\; vertical-alig
 n: baseline\; background: #ffffff\; color: #242b33\; font-family: 'Open Sa
 ns'\, Helvetica\, Arial\, Lucida\, sans-serif\; font-style: normal\; font-
 variant-ligatures: normal\; font-variant-caps: normal\; font-weight: 500\;
  letter-spacing: normal\; orphans: 2\; text-align: start\; text-indent: 0p
 x\; text-transform: none\; white-space: normal\; widows: 2\; word-spacing:
  0px\; -webkit-text-stroke-width: 0px\; text-decoration-thickness: initial
 \; text-decoration-style: initial\; text-decoration-color: initial\;'>L<st
 rong>inks: </strong>Register on ELM<br />\n<strong>Tags:</strong> COMM</p>
 \n\n		</div><!-- .et_builder_inner_content -->\n	</div><!-- .et-l -->\n	</BODY
 ></HTML>
X-TAGS;LANGUAGE=en-US:COMM
END:VEVENT
END:VCALENDAR
